BEGIN:VCALENDAR
VERSION:2.0
PRODID:-//Familienzentrum Schwalm-Eder - ECPv6.15.20//NONSGML v1.0//EN
CALSCALE:GREGORIAN
METHOD:PUBLISH
X-ORIGINAL-URL:https://familienzentrum-schwalm-eder.de
X-WR-CALDESC:Veranstaltungen für Familienzentrum Schwalm-Eder
REFRESH-INTERVAL;VALUE=DURATION:PT1H
X-Robots-Tag:noindex
X-PUBLISHED-TTL:PT1H
BEGIN:VTIMEZONE
TZID:Europe/Berlin
BEGIN:DAYLIGHT
TZOFFSETFROM:+0100
TZOFFSETTO:+0200
TZNAME:CEST
DTSTART:20240331T010000
END:DAYLIGHT
BEGIN:STANDARD
TZOFFSETFROM:+0200
TZOFFSETTO:+0100
TZNAME:CET
DTSTART:20241027T010000
END:STANDARD
BEGIN:DAYLIGHT
TZOFFSETFROM:+0100
TZOFFSETTO:+0200
TZNAME:CEST
DTSTART:20250330T010000
END:DAYLIGHT
BEGIN:STANDARD
TZOFFSETFROM:+0200
TZOFFSETTO:+0100
TZNAME:CET
DTSTART:20251026T010000
END:STANDARD
BEGIN:DAYLIGHT
TZOFFSETFROM:+0100
TZOFFSETTO:+0200
TZNAME:CEST
DTSTART:20260329T010000
END:DAYLIGHT
BEGIN:STANDARD
TZOFFSETFROM:+0200
TZOFFSETTO:+0100
TZNAME:CET
DTSTART:20261025T010000
END:STANDARD
END:VTIMEZONE
BEGIN:VEVENT
DTSTART;TZID=Europe/Berlin:20251205T153000
DTEND;TZID=Europe/Berlin:20251205T170000
DTSTAMP:20260424T122907
CREATED:20250718T074444Z
LAST-MODIFIED:20250827T083814Z
UID:10002531-1764948600-1764954000@familienzentrum-schwalm-eder.de
SUMMARY:VäterTreff mit Indoorspielplatz (0-3 J.)
DESCRIPTION:Du möchtest andere Väter kennenlernen\, dich austauschen und gleichzeitig Zeit mit deinem Kind verbringen? Dann bist du beim VäterTreff genau richtig! \nBei einer Tasse Kaffee könnt ihr euch über das neue Lebenskapitel mit all seinen Fragen austauschen und Kontakte knüpfen. \nFür die Kinder gibt es jede Menge Platz zum Klettern\, Schaukeln und Toben.Bitte bringt Stoppersocken und etwas zu Trinken mit – hier ist Bewegung angesagt!
URL:https://familienzentrum-schwalm-eder.de/veranstaltung/vaetertreff-mit-indoorspielplatz/2025-12-05
LOCATION:Familienzentrum Schwalmstadt\, Steinweg 33\, Schwalmstadt\, 34613
CATEGORIES:Begegnung,Schwalmstadt,Väter,VäterTreff mit Indoorspielplatz
ORGANIZER;CN="Familienzentrum und Elternschule Schwalm-Eder e.V.":MAILTO:info@faz-se.de
END:VEVENT
BEGIN:VEVENT
DTSTART;TZID=Europe/Berlin:20251121T153000
DTEND;TZID=Europe/Berlin:20251121T170000
DTSTAMP:20260424T122907
CREATED:20250718T074444Z
LAST-MODIFIED:20250827T083814Z
UID:10002530-1763739000-1763744400@familienzentrum-schwalm-eder.de
SUMMARY:VäterTreff mit Indoorspielplatz (0-3 J.)
DESCRIPTION:Du möchtest andere Väter kennenlernen\, dich austauschen und gleichzeitig Zeit mit deinem Kind verbringen? Dann bist du beim VäterTreff genau richtig! \nBei einer Tasse Kaffee könnt ihr euch über das neue Lebenskapitel mit all seinen Fragen austauschen und Kontakte knüpfen. \nFür die Kinder gibt es jede Menge Platz zum Klettern\, Schaukeln und Toben.Bitte bringt Stoppersocken und etwas zu Trinken mit – hier ist Bewegung angesagt!
URL:https://familienzentrum-schwalm-eder.de/veranstaltung/vaetertreff-mit-indoorspielplatz/2025-11-21
LOCATION:Familienzentrum Schwalmstadt\, Steinweg 33\, Schwalmstadt\, 34613
CATEGORIES:Begegnung,Schwalmstadt,Väter,VäterTreff mit Indoorspielplatz
ORGANIZER;CN="Familienzentrum und Elternschule Schwalm-Eder e.V.":MAILTO:info@faz-se.de
END:VEVENT
BEGIN:VEVENT
DTSTART;TZID=Europe/Berlin:20251024T153000
DTEND;TZID=Europe/Berlin:20251024T170000
DTSTAMP:20260424T122907
CREATED:20250718T074444Z
LAST-MODIFIED:20250827T083814Z
UID:10002529-1761319800-1761325200@familienzentrum-schwalm-eder.de
SUMMARY:VäterTreff mit Indoorspielplatz (0-3 J.)
DESCRIPTION:Du möchtest andere Väter kennenlernen\, dich austauschen und gleichzeitig Zeit mit deinem Kind verbringen? Dann bist du beim VäterTreff genau richtig! \nBei einer Tasse Kaffee könnt ihr euch über das neue Lebenskapitel mit all seinen Fragen austauschen und Kontakte knüpfen. \nFür die Kinder gibt es jede Menge Platz zum Klettern\, Schaukeln und Toben.Bitte bringt Stoppersocken und etwas zu Trinken mit – hier ist Bewegung angesagt!
URL:https://familienzentrum-schwalm-eder.de/veranstaltung/vaetertreff-mit-indoorspielplatz/2025-10-24
LOCATION:Familienzentrum Schwalmstadt\, Steinweg 33\, Schwalmstadt\, 34613
CATEGORIES:Begegnung,Schwalmstadt,Väter,VäterTreff mit Indoorspielplatz
ORGANIZER;CN="Familienzentrum und Elternschule Schwalm-Eder e.V.":MAILTO:info@faz-se.de
END:VEVENT
BEGIN:VEVENT
DTSTART;TZID=Europe/Berlin:20251010T153000
DTEND;TZID=Europe/Berlin:20251010T170000
DTSTAMP:20260424T122907
CREATED:20250718T074444Z
LAST-MODIFIED:20250827T083814Z
UID:10002528-1760110200-1760115600@familienzentrum-schwalm-eder.de
SUMMARY:VäterTreff mit Indoorspielplatz (0-3 J.)
DESCRIPTION:Du möchtest andere Väter kennenlernen\, dich austauschen und gleichzeitig Zeit mit deinem Kind verbringen? Dann bist du beim VäterTreff genau richtig! \nBei einer Tasse Kaffee könnt ihr euch über das neue Lebenskapitel mit all seinen Fragen austauschen und Kontakte knüpfen. \nFür die Kinder gibt es jede Menge Platz zum Klettern\, Schaukeln und Toben.Bitte bringt Stoppersocken und etwas zu Trinken mit – hier ist Bewegung angesagt!
URL:https://familienzentrum-schwalm-eder.de/veranstaltung/vaetertreff-mit-indoorspielplatz/2025-10-10
LOCATION:Familienzentrum Schwalmstadt\, Steinweg 33\, Schwalmstadt\, 34613
CATEGORIES:Begegnung,Schwalmstadt,Väter,VäterTreff mit Indoorspielplatz
ORGANIZER;CN="Familienzentrum und Elternschule Schwalm-Eder e.V.":MAILTO:info@faz-se.de
END:VEVENT
BEGIN:VEVENT
DTSTART;TZID=Europe/Berlin:20250926T153000
DTEND;TZID=Europe/Berlin:20250926T170000
DTSTAMP:20260424T122907
CREATED:20250718T074444Z
LAST-MODIFIED:20250827T083814Z
UID:10002527-1758900600-1758906000@familienzentrum-schwalm-eder.de
SUMMARY:VäterTreff mit Indoorspielplatz (0-3 J.)
DESCRIPTION:Du möchtest andere Väter kennenlernen\, dich austauschen und gleichzeitig Zeit mit deinem Kind verbringen? Dann bist du beim VäterTreff genau richtig! \nBei einer Tasse Kaffee könnt ihr euch über das neue Lebenskapitel mit all seinen Fragen austauschen und Kontakte knüpfen. \nFür die Kinder gibt es jede Menge Platz zum Klettern\, Schaukeln und Toben.Bitte bringt Stoppersocken und etwas zu Trinken mit – hier ist Bewegung angesagt!
URL:https://familienzentrum-schwalm-eder.de/veranstaltung/vaetertreff-mit-indoorspielplatz/2025-09-26
LOCATION:Familienzentrum Schwalmstadt\, Steinweg 33\, Schwalmstadt\, 34613
CATEGORIES:Begegnung,Schwalmstadt,Väter,VäterTreff mit Indoorspielplatz
ORGANIZER;CN="Familienzentrum und Elternschule Schwalm-Eder e.V.":MAILTO:info@faz-se.de
END:VEVENT
END:VCALENDAR