BEGIN:VCALENDAR
VERSION:2.0
PRODID:-//Familienzentrum Schwalm-Eder - ECPv6.15.20//NONSGML v1.0//EN
CALSCALE:GREGORIAN
METHOD:PUBLISH
X-ORIGINAL-URL:https://familienzentrum-schwalm-eder.de
X-WR-CALDESC:Veranstaltungen für Familienzentrum Schwalm-Eder
REFRESH-INTERVAL;VALUE=DURATION:PT1H
X-Robots-Tag:noindex
X-PUBLISHED-TTL:PT1H
BEGIN:VTIMEZONE
TZID:Europe/Berlin
BEGIN:DAYLIGHT
TZOFFSETFROM:+0100
TZOFFSETTO:+0200
TZNAME:CEST
DTSTART:20250330T010000
END:DAYLIGHT
BEGIN:STANDARD
TZOFFSETFROM:+0200
TZOFFSETTO:+0100
TZNAME:CET
DTSTART:20251026T010000
END:STANDARD
BEGIN:DAYLIGHT
TZOFFSETFROM:+0100
TZOFFSETTO:+0200
TZNAME:CEST
DTSTART:20260329T010000
END:DAYLIGHT
BEGIN:STANDARD
TZOFFSETFROM:+0200
TZOFFSETTO:+0100
TZNAME:CET
DTSTART:20261025T010000
END:STANDARD
BEGIN:DAYLIGHT
TZOFFSETFROM:+0100
TZOFFSETTO:+0200
TZNAME:CEST
DTSTART:20270328T010000
END:DAYLIGHT
BEGIN:STANDARD
TZOFFSETFROM:+0200
TZOFFSETTO:+0100
TZNAME:CET
DTSTART:20271031T010000
END:STANDARD
END:VTIMEZONE
BEGIN:VEVENT
DTSTART;TZID=Europe/Berlin:20260212T080000
DTEND;TZID=Europe/Berlin:20260212T120000
DTSTAMP:20260422T110120
CREATED:20260104T005449Z
LAST-MODIFIED:20260104T010217Z
UID:10004024-1770883200-1770897600@familienzentrum-schwalm-eder.de
SUMMARY:Job-Café
DESCRIPTION:Das Job-Café bietet individuelle Unterstützung für (Allein-)Erziehende und Frauen\, sowie Menschen mit Migrationshintergrund aus dem Schwalm-Eder-Kreis\, die nach einer beruflichen Neuorientierung suchen. \nDas Angebot: \n\nHilfe beim Erstellen von Bewerbungsunterlagen\nInternetrecherche\, Stellensuche\nHilfe zur Selbsthilfe bei der PC-Nutzung\nBeratung bei der Suche nach Arbeit und beruflichen Perspektiven\nHilfestellung beim Aufbau eines individuellen Netzwerkes\nInformationsveranstaltungen (Rente\, Schuldnerberatung etc.)\n Hilfestellung bei der Anerkennung von im Ausland erworbenen Abschlüssen und Qualifikationen\n Kompetenzermittlung (evtl. Erwerb des Kompetenzpasses)\n\nOrt: Familienzentrum Homberg\nTermin: Donnerstag\, 8:00-12:00 Uhr nach Terminvereinbarung \nInfos: Katja Heiwig\, Mobil 0176 57912887\, E-Mail: kheiwig@starthilfe-abv.de
URL:https://familienzentrum-schwalm-eder.de/veranstaltung/job-cafe/2026-02-12
LOCATION:Familienzentrum Homberg\, Marktplatz 15\, Homberg (Efze)\, 34576
CATEGORIES:Homberg
ATTACH;FMTTYPE=image/jpeg:https://familienzentrum-schwalm-eder.de/wp-content/uploads/2026/01/Kalender_JobCafe.jpg
ORGANIZER;CN="Familienzentrum und Elternschule Schwalm-Eder e.V.":MAILTO:info@faz-se.de
END:VEVENT
BEGIN:VEVENT
DTSTART;TZID=Europe/Berlin:20260212T100000
DTEND;TZID=Europe/Berlin:20260212T113000
DTSTAMP:20260422T110120
CREATED:20251215T163334Z
LAST-MODIFIED:20251231T132528Z
UID:10000513-1770890400-1770895800@familienzentrum-schwalm-eder.de
SUMMARY:Café Klapperstorch (Schwalmstadt)
DESCRIPTION:Das Leben mit Baby und kleinen Kindern ist jeden Tag voller neuer Herausforderungen und Fragen. Hier können Eltern sich in einem gemütlichen Rahmen kennenlernen und austauschen. Aktuelle Fragen können in der Runde oder mit einer Sozialpädagogin persönlich besprochen werden. \nDarüber hinaus gibt es jede Woche Informationen zu einem Thema aus dem Alltag mit Babys und Kleinkindern. Eure Kinder haben Raum zum Krabbeln und Spielen. \nWir freuen uns auf euch! \nUnsere Themen der kommenden Wochen: \n\n15.12.2025 – 19.12.2025 Kreative Ideen für Babys und Kleinkinder\n12.01.2026 – 16.01.2026 Langeweile aushalten\n19.01.2026 – 23.01.2026 Kommunikation in der Partnerschaft\n26.01.2026 – 30.01.2026 Evolutionspädagogik\n02.02.2026 – 06.02.2026 Kinderkrankheiten\n09.02.2026 – 13.02.2026 Wie perfekt muss ich sein?\n16.02.2026 – 20.02.2026 Die ersten Schuhe\n23.02.2026 – 27.02.2026 Gesunde Ernährung\n02.03.2026 – 06.03.2026 Eltern-Kind-Kur\n09.03.2026 – 13.03.2026 Unternehmungen für Familien in der Nähe\n16.03.2026 – 20.03.2026 Frühlingszeit im Klapperstorch\n23.03.2026 – 27.03.2026 Kein Café Klapperstorch wegen Ausflug ins Frieloland am 25.03.2026\n30.03.2026 – 10.04.2026 Kein Café Klapperstorch in den Osterferien\n13.04.2026 – 17.04.2026 Zahngesundheit von Anfang an\n20.04.2026 – 24.04.2026 Tageselternverein stellt sich vor\n27.04.2026 – 30.04.2026 Über Windeln und Töpfchen\n04.05.2026 – 08.05.2026 Die sogenannte Trotzphase\n11.05.2026 – 15.05.2026 Haus- und Reiseapotheke\n18.05.2026 – 22.05.2026 Geschwister – zwischen Streit und Liebe\n26.05.2026 – 29.05.2026 Mein Kind kann noch nicht…\n01.06.2026 – 05.06.2026 Was ist giftig in Garten und Haushalt?\n08.06.2026 – 12.06.2026 Mama geht wieder arbeiten – das Jobcafé kommt\n15.06.2026 – 19.06.2026 Eingewöhnung in die Kita nach dem Berliner Modell\n22.06.2026 – 26.06.2026 Mit Kindern in den Urlaub\n29.06.2026 – 07.08.2026 Kein Café Klapperstorch in den Sommerferien\n\n 
URL:https://familienzentrum-schwalm-eder.de/veranstaltung/cafe-klapperstorch-3-2/2026-02-12
LOCATION:Familienzentrum Schwalmstadt\, Steinweg 33\, Schwalmstadt\, 34613
CATEGORIES:Café Klapperstorch
ATTACH;FMTTYPE=image/jpeg:https://familienzentrum-schwalm-eder.de/wp-content/uploads/2025/12/Kalender_CafeKlapperstorch_Schwalmstadt.jpg
ORGANIZER;CN="Familienzentrum und Elternschule Schwalm-Eder e.V.":MAILTO:info@faz-se.de
END:VEVENT
BEGIN:VEVENT
DTSTART;TZID=Europe/Berlin:20260212T153000
DTEND;TZID=Europe/Berlin:20260212T170000
DTSTAMP:20260422T110120
CREATED:20251231T140734Z
LAST-MODIFIED:20251231T140938Z
UID:10003584-1770910200-1770915600@familienzentrum-schwalm-eder.de
SUMMARY:Basteln für kleine Hände (Homberg)
DESCRIPTION:Gemeinsames Basteln für Eltern\, Omas und Opas und andere Verwandte mit kleinen Kindern. \nHomberg: 12.02.2026 & 11.06.2026 jeweils von 15:30-17:00 Uhr\nSchwalmstadt: Termine werden noch bekannt gegeben\nFelsberg: regelmäßig mittwochs in der Spielgruppe 15:30-17:00 Uhr (mehrgenerationenhaus@felsberg.de)
URL:https://familienzentrum-schwalm-eder.de/veranstaltung/basteln-homberg/2026-02-12
LOCATION:Familienzentrum Homberg\, Marktplatz 15\, Homberg (Efze)\, 34576
CATEGORIES:Basteln für kleine Hände,Eltern-Kind-Kurs,Homberg
ATTACH;FMTTYPE=image/jpeg:https://familienzentrum-schwalm-eder.de/wp-content/uploads/2025/12/Kalender_Basteln.jpg
ORGANIZER;CN="Familienzentrum und Elternschule Schwalm-Eder e.V.":MAILTO:info@faz-se.de
END:VEVENT
BEGIN:VEVENT
DTSTART;TZID=Europe/Berlin:20260212T153000
DTEND;TZID=Europe/Berlin:20260212T170000
DTSTAMP:20260422T110120
CREATED:20251231T144828Z
LAST-MODIFIED:20260120T105951Z
UID:10003613-1770910200-1770915600@familienzentrum-schwalm-eder.de
SUMMARY:Indoorspielplatz (Schwalmstadt)
DESCRIPTION:Freies Spielen im Familienzentrum \nAn diesem Nachmittag wird geklettert\, geschaukelt und getobt. Bringt eure Stoppersocken und etwas zu Trinken mit\, denn hier geht’s rund. Eltern können sich treffen\, Kontakte knüpfen und sich mit anderen Eltern austauschen. \nOrt: Familienzentrum Schwalmstadt\nTermine für Kinder im Alter von 3-4 Jahren: Donnerstag\, 22.01.2026 und 12.02.2026\nTermine für Kinder im Altrn von 18-35 Monaten: Montag\, 23.02.2026 und 09.03.2026\nZeit: 15:30-17:00 Uhr\nLeitung: Jana Siemon \nAnmeldung erbeten (auch über die Spond-App möglich) über 05681 93 64 631 oder info@faz-se.de
URL:https://familienzentrum-schwalm-eder.de/veranstaltung/indoorspielplatz-schwalmstadt/2026-02-12
LOCATION:Familienzentrum Schwalmstadt\, Steinweg 33\, Schwalmstadt\, 34613
CATEGORIES:Eltern-Kind-Kurs,Schwalmstadt
ATTACH;FMTTYPE=image/jpeg:https://familienzentrum-schwalm-eder.de/wp-content/uploads/2025/12/Kalender_Indoorspielplatz.jpg
ORGANIZER;CN="Familienzentrum und Elternschule Schwalm-Eder e.V.":MAILTO:info@faz-se.de
END:VEVENT
END:VCALENDAR