BEGIN:VCALENDAR
VERSION:2.0
PRODID:-//Familienzentrum Schwalm-Eder - ECPv6.15.20//NONSGML v1.0//EN
CALSCALE:GREGORIAN
METHOD:PUBLISH
X-WR-CALNAME:Familienzentrum Schwalm-Eder
X-ORIGINAL-URL:https://familienzentrum-schwalm-eder.de
X-WR-CALDESC:Veranstaltungen für Familienzentrum Schwalm-Eder
REFRESH-INTERVAL;VALUE=DURATION:PT1H
X-Robots-Tag:noindex
X-PUBLISHED-TTL:PT1H
BEGIN:VTIMEZONE
TZID:Europe/Berlin
BEGIN:DAYLIGHT
TZOFFSETFROM:+0100
TZOFFSETTO:+0200
TZNAME:CEST
DTSTART:20250330T010000
END:DAYLIGHT
BEGIN:STANDARD
TZOFFSETFROM:+0200
TZOFFSETTO:+0100
TZNAME:CET
DTSTART:20251026T010000
END:STANDARD
BEGIN:DAYLIGHT
TZOFFSETFROM:+0100
TZOFFSETTO:+0200
TZNAME:CEST
DTSTART:20260329T010000
END:DAYLIGHT
BEGIN:STANDARD
TZOFFSETFROM:+0200
TZOFFSETTO:+0100
TZNAME:CET
DTSTART:20261025T010000
END:STANDARD
BEGIN:DAYLIGHT
TZOFFSETFROM:+0100
TZOFFSETTO:+0200
TZNAME:CEST
DTSTART:20270328T010000
END:DAYLIGHT
BEGIN:STANDARD
TZOFFSETFROM:+0200
TZOFFSETTO:+0100
TZNAME:CET
DTSTART:20271031T010000
END:STANDARD
END:VTIMEZONE
BEGIN:VEVENT
DTSTART;TZID=Europe/Berlin:20260228T100000
DTEND;TZID=Europe/Berlin:20260228T120000
DTSTAMP:20260424T134827
CREATED:20260103T230719Z
LAST-MODIFIED:20260104T111525Z
UID:10003622-1772272800-1772280000@familienzentrum-schwalm-eder.de
SUMMARY:Entspannte Nächte von Anfang an
DESCRIPTION:Der Präventions-Workshop für werdende & frischgebackene Eltern \nSchlafprobleme gar nicht erst entstehen lassen! \nDie ersten Monate mit Baby sind eine besondere Zeit – voller Nähe\, neuer Erfahrungen und oft auch Unsicherheit. Gerade beim Thema Babyschlaf kursieren unzählige Mythen und gut gemeinte Ratschläge\, die Eltern verunsichern können. \nIn diesem liebevollen\, bedürfnisorientierten und traumasensiblen Workshop erfährst du\, wie Babyschlaf wirklich funktioniert. Du erhältst wertvolles Wissen und praktische Tipps\, um von Anfang an eine gesunde Schlafbasis für dein Baby – und damit mehr Ruhe und Gelassenheit für die ganze Familie – zu schaffen. \nFür wen? \n\nwerdende Eltern\nEltern mit Babys bis ca. 6 Monate\nGroßeltern und Betreuungspersonen\n\nInhalte des Workshops: \n\nBabyschlaf verstehen: Was ist eigentlich normal?\nOrientierung: Wie begleite ich mein Baby?\nSichere Schlafumgebung: Was braucht mein Baby wirklich?\nBabysignale erkennen und deuten – auch beim Weinen\nEinschlafhilfen & Rituale\, von denen jede Familie profitiert\nSchlafmythen entkräften: Fakten statt Verunsicherung\nRaum für eure persönlichen Fragen\n\nOrt: Familienzentrum Homberg\nTermin: 28. Februar 2026 von 10:00-12:00 Uhr\nLeitung: Caroline Wehrheim\, zertifizierte Schlafberaterin\nKosten: 10€ pro Person & 15€ pro Paar Vorkasse / Infos bei Anmeldung \nInfos und Anmeldung: traumschritte.schlafcoaching@gmail.com
URL:https://familienzentrum-schwalm-eder.de/veranstaltung/entspannte-naechte-von-anfang-an
LOCATION:Familienzentrum Homberg\, Marktplatz 15\, Homberg (Efze)\, 34576
CATEGORIES:Homberg,Vortrag
ATTACH;FMTTYPE=image/jpeg:https://familienzentrum-schwalm-eder.de/wp-content/uploads/2026/01/Kalender_leer_1.jpg
ORGANIZER;CN="Familienzentrum und Elternschule Schwalm-Eder e.V.":MAILTO:info@faz-se.de
END:VEVENT
END:VCALENDAR