BEGIN:VCALENDAR
VERSION:2.0
PRODID:-//Familienzentrum Schwalm-Eder - ECPv6.15.20//NONSGML v1.0//EN
CALSCALE:GREGORIAN
METHOD:PUBLISH
X-ORIGINAL-URL:https://familienzentrum-schwalm-eder.de
X-WR-CALDESC:Veranstaltungen für Familienzentrum Schwalm-Eder
REFRESH-INTERVAL;VALUE=DURATION:PT1H
X-Robots-Tag:noindex
X-PUBLISHED-TTL:PT1H
BEGIN:VTIMEZONE
TZID:Europe/Berlin
BEGIN:DAYLIGHT
TZOFFSETFROM:+0100
TZOFFSETTO:+0200
TZNAME:CEST
DTSTART:20250330T010000
END:DAYLIGHT
BEGIN:STANDARD
TZOFFSETFROM:+0200
TZOFFSETTO:+0100
TZNAME:CET
DTSTART:20251026T010000
END:STANDARD
BEGIN:DAYLIGHT
TZOFFSETFROM:+0100
TZOFFSETTO:+0200
TZNAME:CEST
DTSTART:20260329T010000
END:DAYLIGHT
BEGIN:STANDARD
TZOFFSETFROM:+0200
TZOFFSETTO:+0100
TZNAME:CET
DTSTART:20261025T010000
END:STANDARD
BEGIN:DAYLIGHT
TZOFFSETFROM:+0100
TZOFFSETTO:+0200
TZNAME:CEST
DTSTART:20270328T010000
END:DAYLIGHT
BEGIN:STANDARD
TZOFFSETFROM:+0200
TZOFFSETTO:+0100
TZNAME:CET
DTSTART:20271031T010000
END:STANDARD
END:VTIMEZONE
BEGIN:VEVENT
DTSTART;TZID=Europe/Berlin:20260317T153000
DTEND;TZID=Europe/Berlin:20260317T170000
DTSTAMP:20260420T173452
CREATED:20251023T112828Z
LAST-MODIFIED:20251216T194211Z
UID:10002669-1773761400-1773766800@familienzentrum-schwalm-eder.de
SUMMARY:Eltern-Treff (Homberg)
DESCRIPTION:Deine Kinder werden größer – und mit ihnen verändern sich die Themen\, die dich als Mutter oder Vater beschäftigen. Als Ergänzung zum Café Klapperstorch laden wir dich herzlich zum Elterntreff am Nachmittag mit Spielwiese für Kinder ab 1 Jahr ein. \nIn Homberg erwartet dich eine entspannte Atmosphäre mit \n\neiner Tasse Kaffee\,\nPlatz zum Spielen für dein Kind\,\ninteressanten Themen\,\nZeit zum Reden\nund die Möglichkeit\, andere Eltern kennenzulernen.\n\nEine Pädagogin ist vor Ort und steht dir als Ansprechpartnerin zur Seite – für deine Fragen\, Gedanken und Gespräche. \nSchau gerne vorbei – wir freuen uns auf dich!
URL:https://familienzentrum-schwalm-eder.de/veranstaltung/eltern-treff-am-nachmittag-3/2026-03-17
LOCATION:Familienzentrum Homberg\, Marktplatz 15\, Homberg (Efze)\, 34576
CATEGORIES:Eltern-Treff,Homberg
ATTACH;FMTTYPE=image/jpeg:https://familienzentrum-schwalm-eder.de/wp-content/uploads/2025/12/Kalender_Elterntreff_Homberg.jpg
ORGANIZER;CN="Familienzentrum und Elternschule Schwalm-Eder e.V.":MAILTO:info@faz-se.de
END:VEVENT
BEGIN:VEVENT
DTSTART;TZID=Europe/Berlin:20260317T153000
DTEND;TZID=Europe/Berlin:20260317T170000
DTSTAMP:20260420T173452
CREATED:20251216T181811Z
LAST-MODIFIED:20251216T194310Z
UID:10001416-1773761400-1773766800@familienzentrum-schwalm-eder.de
SUMMARY:Eltern-Treff (Schwalmstadt)
DESCRIPTION:Deine Kinder werden größer – und mit ihnen verändern sich die Themen\, die dich als Mutter oder Vater beschäftigen. Als Ergänzung zum Café Klapperstorch laden wir dich herzlich zum Elterntreff am Nachmittag mit Spielwiese für Kinder ab 1 Jahr ein. \nIn Schwalmstadt erwartet dich eine entspannte Atmosphäre mit \n\neiner Tasse Kaffee\,\nPlatz zum Spielen für dein Kind\,\ninteressanten Themen\,\nZeit zum Reden\nund die Möglichkeit\, andere Eltern kennenzulernen.\n\nEine Pädagogin ist vor Ort und steht dir als Ansprechpartnerin zur Seite – für deine Fragen\, Gedanken und Gespräche. \nSchau gerne vorbei – wir freuen uns auf dich!
URL:https://familienzentrum-schwalm-eder.de/veranstaltung/eltern-treff-am-nachmittag-2-2/2026-03-17
LOCATION:Familienzentrum Schwalmstadt\, Steinweg 33\, Schwalmstadt\, 34613
CATEGORIES:Eltern-Treff,Schwalmstadt
ATTACH;FMTTYPE=image/jpeg:https://familienzentrum-schwalm-eder.de/wp-content/uploads/2025/12/Kalender_Elterntreff_Schwalmstadt.jpg
ORGANIZER;CN="Familienzentrum und Elternschule Schwalm-Eder e.V.":MAILTO:info@faz-se.de
END:VEVENT
END:VCALENDAR