BEGIN:VCALENDAR
VERSION:2.0
PRODID:-//Familienzentrum Schwalm-Eder - ECPv6.15.20//NONSGML v1.0//EN
CALSCALE:GREGORIAN
METHOD:PUBLISH
X-ORIGINAL-URL:https://familienzentrum-schwalm-eder.de
X-WR-CALDESC:Veranstaltungen für Familienzentrum Schwalm-Eder
REFRESH-INTERVAL;VALUE=DURATION:PT1H
X-Robots-Tag:noindex
X-PUBLISHED-TTL:PT1H
BEGIN:VTIMEZONE
TZID:Europe/Berlin
BEGIN:DAYLIGHT
TZOFFSETFROM:+0100
TZOFFSETTO:+0200
TZNAME:CEST
DTSTART:20240331T010000
END:DAYLIGHT
BEGIN:STANDARD
TZOFFSETFROM:+0200
TZOFFSETTO:+0100
TZNAME:CET
DTSTART:20241027T010000
END:STANDARD
BEGIN:DAYLIGHT
TZOFFSETFROM:+0100
TZOFFSETTO:+0200
TZNAME:CEST
DTSTART:20250330T010000
END:DAYLIGHT
BEGIN:STANDARD
TZOFFSETFROM:+0200
TZOFFSETTO:+0100
TZNAME:CET
DTSTART:20251026T010000
END:STANDARD
BEGIN:DAYLIGHT
TZOFFSETFROM:+0100
TZOFFSETTO:+0200
TZNAME:CEST
DTSTART:20260329T010000
END:DAYLIGHT
BEGIN:STANDARD
TZOFFSETFROM:+0200
TZOFFSETTO:+0100
TZNAME:CET
DTSTART:20261025T010000
END:STANDARD
END:VTIMEZONE
BEGIN:VEVENT
DTSTART;TZID=Europe/Berlin:20251201T150000
DTEND;TZID=Europe/Berlin:20251201T163000
DTSTAMP:20260424T174909
CREATED:20250718T073333Z
LAST-MODIFIED:20251117T123944Z
UID:10002036-1764601200-1764606600@familienzentrum-schwalm-eder.de
SUMMARY:DROP IN(klusive)
DESCRIPTION:Ein Willkommensort für Eltern mit Kindern \n… ein offener und kostenfreier Treff für alle Eltern mit Säuglingen und Kleinkindern… an open and free meeting place for all parents with infants and young children \nHier kannst du in entspannter Atmosphäre mit anderen Eltern ins Gespräch kommen\, dein Kind spielen lassen und eine kleine Pause vom Alltag genießen. Eine pädagogische Fachkraft begleitet das Angebot und steht für Fragen zur Verfügung. \nSchau gerne vorbei – ohne Anmeldung\, einfach kommen!
URL:https://familienzentrum-schwalm-eder.de/veranstaltung/drop-inklusive/2025-12-01
LOCATION:Familienzentrum Homberg\, Marktplatz 15\, Homberg (Efze)\, 34576
CATEGORIES:Begegnung,Homberg
ATTACH;FMTTYPE=image/webp:https://familienzentrum-schwalm-eder.de/wp-content/uploads/2025/11/Drop-in.webp
ORGANIZER;CN="Familienzentrum und Elternschule Schwalm-Eder e.V.":MAILTO:info@faz-se.de
END:VEVENT
BEGIN:VEVENT
DTSTART;TZID=Europe/Berlin:20251208T150000
DTEND;TZID=Europe/Berlin:20251208T163000
DTSTAMP:20260424T174909
CREATED:20250718T073333Z
LAST-MODIFIED:20251117T123944Z
UID:10002037-1765206000-1765211400@familienzentrum-schwalm-eder.de
SUMMARY:DROP IN(klusive)
DESCRIPTION:Ein Willkommensort für Eltern mit Kindern \n… ein offener und kostenfreier Treff für alle Eltern mit Säuglingen und Kleinkindern… an open and free meeting place for all parents with infants and young children \nHier kannst du in entspannter Atmosphäre mit anderen Eltern ins Gespräch kommen\, dein Kind spielen lassen und eine kleine Pause vom Alltag genießen. Eine pädagogische Fachkraft begleitet das Angebot und steht für Fragen zur Verfügung. \nSchau gerne vorbei – ohne Anmeldung\, einfach kommen!
URL:https://familienzentrum-schwalm-eder.de/veranstaltung/drop-inklusive/2025-12-08
LOCATION:Familienzentrum Homberg\, Marktplatz 15\, Homberg (Efze)\, 34576
CATEGORIES:Begegnung,Homberg
ATTACH;FMTTYPE=image/webp:https://familienzentrum-schwalm-eder.de/wp-content/uploads/2025/11/Drop-in.webp
ORGANIZER;CN="Familienzentrum und Elternschule Schwalm-Eder e.V.":MAILTO:info@faz-se.de
END:VEVENT
BEGIN:VEVENT
DTSTART;TZID=Europe/Berlin:20251215T150000
DTEND;TZID=Europe/Berlin:20251215T163000
DTSTAMP:20260424T174909
CREATED:20250718T073333Z
LAST-MODIFIED:20251117T123944Z
UID:10002038-1765810800-1765816200@familienzentrum-schwalm-eder.de
SUMMARY:DROP IN(klusive)
DESCRIPTION:Ein Willkommensort für Eltern mit Kindern \n… ein offener und kostenfreier Treff für alle Eltern mit Säuglingen und Kleinkindern… an open and free meeting place for all parents with infants and young children \nHier kannst du in entspannter Atmosphäre mit anderen Eltern ins Gespräch kommen\, dein Kind spielen lassen und eine kleine Pause vom Alltag genießen. Eine pädagogische Fachkraft begleitet das Angebot und steht für Fragen zur Verfügung. \nSchau gerne vorbei – ohne Anmeldung\, einfach kommen!
URL:https://familienzentrum-schwalm-eder.de/veranstaltung/drop-inklusive/2025-12-15
LOCATION:Familienzentrum Homberg\, Marktplatz 15\, Homberg (Efze)\, 34576
CATEGORIES:Begegnung,Homberg
ATTACH;FMTTYPE=image/webp:https://familienzentrum-schwalm-eder.de/wp-content/uploads/2025/11/Drop-in.webp
ORGANIZER;CN="Familienzentrum und Elternschule Schwalm-Eder e.V.":MAILTO:info@faz-se.de
END:VEVENT
END:VCALENDAR